BEGIN:VCALENDAR
VERSION:2.0
PRODID:-//pretalx//papers.synesthesia.it//ai-heroes-2024//3CK7YT
BEGIN:VTIMEZONE
TZID:CET
BEGIN:STANDARD
DTSTART:20001029T040000
RRULE:FREQ=YEARLY;BYDAY=-1SU;BYMONTH=10
TZNAME:CET
TZOFFSETFROM:+0200
TZOFFSETTO:+0100
END:STANDARD
BEGIN:DAYLIGHT
DTSTART:20000326T030000
RRULE:FREQ=YEARLY;BYDAY=-1SU;BYMONTH=3
TZNAME:CEST
TZOFFSETFROM:+0100
TZOFFSETTO:+0200
END:DAYLIGHT
END:VTIMEZONE
BEGIN:VEVENT
UID:pretalx-ai-heroes-2024-DZYQDM@papers.synesthesia.it
DTSTART;TZID=CET:20241211T121000
DTEND;TZID=CET:20241211T125000
DESCRIPTION:Vector search has emerged as a critical component for building 
 personalised and adaptive applications powered by Generative AI. Let's div
 e into Couchbase's vector search capabilities\, which extends into mobile 
 and IoT devices through Couchbase Lite to enable real time insights. This 
 session will guide you on how you can leverage vector (and hybrid) search 
 on the edge enabling one to power mobile apps and IoT devices with adaptiv
 e decision-making through efficient edge AI deployment.
DTSTAMP:20241209T105218Z
LOCATION:Auditorium
SUMMARY:Vector Search on the Edge: Powering Mobile and IoT with AI - Elio S
 alvatore
URL:https://papers.synesthesia.it/ai-heroes-2024/talk/DZYQDM/
END:VEVENT
END:VCALENDAR
