BEGIN:VCALENDAR
VERSION:2.0
PRODID:-//pretalx//papers.synesthesia.it//ai-heroes-2024//9JTGCN
BEGIN:VTIMEZONE
TZID:CET
BEGIN:STANDARD
DTSTART:20001029T040000
RRULE:FREQ=YEARLY;BYDAY=-1SU;BYMONTH=10
TZNAME:CET
TZOFFSETFROM:+0200
TZOFFSETTO:+0100
END:STANDARD
BEGIN:DAYLIGHT
DTSTART:20000326T030000
RRULE:FREQ=YEARLY;BYDAY=-1SU;BYMONTH=3
TZNAME:CEST
TZOFFSETFROM:+0100
TZOFFSETTO:+0200
END:DAYLIGHT
END:VTIMEZONE
BEGIN:VEVENT
UID:pretalx-ai-heroes-2024-TMVLDP@papers.synesthesia.it
DTSTART;TZID=CET:20241211T163000
DTEND;TZID=CET:20241211T171500
DESCRIPTION:Python's elegance and versatility are undeniable\, but what if 
 your existing applications are strongly based on .NET or Java?\nIntroducin
 g Semantic Kernel we could seamlessly integrate Large Language Models capa
 bilities into your existing stack. \n\nIn this talk\, we'll delve into the
  key traits of Semantic Kernel\, with hands on code examples\, and explore
  how could enhance the building of AI features\, including topics as:\n\n-
  Memory/RAG integration\n- Function calling\n- Agent capabilities
DTSTAMP:20241209T105218Z
LOCATION:Auditorium
SUMMARY:Bridging the Gap: Integrating LLMs into .NET and Java Applications 
 with Semantic Kernel - Marco De Nittis
URL:https://papers.synesthesia.it/ai-heroes-2024/talk/TMVLDP/
END:VEVENT
END:VCALENDAR
