BEGIN:VCALENDAR
VERSION:2.0
PRODID:-//pretalx//papers.synesthesia.it//ai-heroes-2024//ESJC83
BEGIN:VTIMEZONE
TZID:CET
BEGIN:STANDARD
DTSTART:20001029T040000
RRULE:FREQ=YEARLY;BYDAY=-1SU;BYMONTH=10
TZNAME:CET
TZOFFSETFROM:+0200
TZOFFSETTO:+0100
END:STANDARD
BEGIN:DAYLIGHT
DTSTART:20000326T030000
RRULE:FREQ=YEARLY;BYDAY=-1SU;BYMONTH=3
TZNAME:CEST
TZOFFSETFROM:+0100
TZOFFSETTO:+0200
END:DAYLIGHT
END:VTIMEZONE
BEGIN:VEVENT
UID:pretalx-ai-heroes-2024-F83TYP@papers.synesthesia.it
DTSTART;TZID=CET:20241211T125000
DTEND;TZID=CET:20241211T133000
DESCRIPTION:Let’s explore our journey to bring an enterprise assistant in
 to production\, addressing the real-world complexities of development and 
 deployment\, sharing our experience with security\, advanced ETL integrati
 ons\, automation\, and frontend/backend customizations. From a prototype b
 ased on Azure OpenAI Chat Playground (aka Bring-Your-Own-Data)\, we’ll w
 alk you through how we moved to a custom architecture\, optimized to meet 
 specific user and business needs\, using Microsoft technologies\, includin
 g Azure AI Search\, Semantic Kernel\, and Kernel Memory.
DTSTAMP:20241209T105219Z
LOCATION:Auditorium
SUMMARY:RAG-based AI Assistants: from demo to product\, addressing real-wor
 ld challenges - Gianni Rosa Gallina\, Morgana Lalli
URL:https://papers.synesthesia.it/ai-heroes-2024/talk/F83TYP/
END:VEVENT
END:VCALENDAR
