BEGIN:VCALENDAR
VERSION:2.0
PRODID:-//pretalx//papers.synesthesia.it//ai-heroes-2024//UMYPMZ
BEGIN:VTIMEZONE
TZID:CET
BEGIN:STANDARD
DTSTART:20001029T040000
RRULE:FREQ=YEARLY;BYDAY=-1SU;BYMONTH=10
TZNAME:CET
TZOFFSETFROM:+0200
TZOFFSETTO:+0100
END:STANDARD
BEGIN:DAYLIGHT
DTSTART:20000326T030000
RRULE:FREQ=YEARLY;BYDAY=-1SU;BYMONTH=3
TZNAME:CEST
TZOFFSETFROM:+0100
TZOFFSETTO:+0200
END:DAYLIGHT
END:VTIMEZONE
BEGIN:VEVENT
UID:pretalx-ai-heroes-2024-AEH9NS@papers.synesthesia.it
DTSTART;TZID=CET:20241211T151500
DTEND;TZID=CET:20241211T160000
DESCRIPTION:Utilizing Generative AI will make us accelerate getting started
  Mobile Apps Development.\n--\nMobile app development is one of the best s
 ubjects for learning software development. After developing an app\, we ca
 n run it on the smartphone we use daily\, allowing us to feel the joy of s
 oftware development.\n\nHowever\, to start application development\, you m
 ust overcome many obstacles\, such as building a development environment a
 nd programming. Even if you want to start development\, these first steps 
 may frustrate you.\n\nGenerative AI like ChatGPT is a very powerful tool i
 n app development. Especially\, it's useful for Code generation\, Code Rev
 iew\, Refactoring and Modernization\, Debugging\, and Test case generation
 .\n\nIn this session\, I'll explain how to start Mobile App Development wi
 th Generative AI in concrete steps. Specifically\, I'll cover the followin
 g topics:\n\n- Basic Steps for starting Mobile Apps Development: Detailed 
 guidance from choosing tools to setting up the development environment\n- 
 Specific Method: how to utilize Generative AI for Apps Development with th
 e demonstration\n- Concrete Code Examples: Practical that actually works\n
 \nIn this session\, participants will gain actionable knowledge and skills
  to apply directly to their projects\, enhancing their ability to develop 
 mobile apps with Generative AI.
DTSTAMP:20241209T105219Z
LOCATION:Auditorium
SUMMARY:Getting Started Mobile Apps Development with Generative AI - Kenich
 i Kambara
URL:https://papers.synesthesia.it/ai-heroes-2024/talk/AEH9NS/
END:VEVENT
END:VCALENDAR
