BEGIN:VCALENDAR
VERSION:2.0
PRODID:-//pretalx//papers.synesthesia.it//ai-heroes-2024//WT3VHZ
BEGIN:VTIMEZONE
TZID:CET
BEGIN:STANDARD
DTSTART:20001029T040000
RRULE:FREQ=YEARLY;BYDAY=-1SU;BYMONTH=10
TZNAME:CET
TZOFFSETFROM:+0200
TZOFFSETTO:+0100
END:STANDARD
BEGIN:DAYLIGHT
DTSTART:20000326T030000
RRULE:FREQ=YEARLY;BYDAY=-1SU;BYMONTH=3
TZNAME:CEST
TZOFFSETFROM:+0100
TZOFFSETTO:+0200
END:DAYLIGHT
END:VTIMEZONE
BEGIN:VEVENT
UID:pretalx-ai-heroes-2024-LW7DJN@papers.synesthesia.it
DTSTART;TZID=CET:20241211T143000
DTEND;TZID=CET:20241211T151500
DESCRIPTION:We'll showcase a future where multiple AI agents collaborate wi
 thin intelligent operating systems. We'll explore how the traditional OS p
 aradigm is evolving into an AI-driven ecosystem\, where multi-agent system
 s work on complex tasks with increasing capability as LLMs become more sop
 histicated. Drawing parallels between traditional and AI-driven OS archite
 ctures\, we'll demonstrate how this evolution impacts system interactions\
 , file management\, and peripheral device communication.
DTSTAMP:20241209T105218Z
LOCATION:Sala 150
SUMMARY:Beyond LLMs and Agents: The Evolution of AI-Driven Intelligent Oper
 ating Systems - Yuri Mariotti
URL:https://papers.synesthesia.it/ai-heroes-2024/talk/LW7DJN/
END:VEVENT
END:VCALENDAR
