BEGIN:VCALENDAR
VERSION:2.0
PRODID:-//pretalx//papers.synesthesia.it//FCKZ73
BEGIN:VTIMEZONE
TZID:CET
BEGIN:STANDARD
DTSTART:20001029T040000
RRULE:FREQ=YEARLY;BYDAY=-1SU;BYMONTH=10
TZNAME:CET
TZOFFSETFROM:+0200
TZOFFSETTO:+0100
END:STANDARD
BEGIN:DAYLIGHT
DTSTART:20000326T030000
RRULE:FREQ=YEARLY;BYDAY=-1SU;BYMONTH=3
TZNAME:CEST
TZOFFSETFROM:+0100
TZOFFSETTO:+0200
END:DAYLIGHT
END:VTIMEZONE
BEGIN:VEVENT
UID:pretalx-ai-heroes-2024-FCKZ73@papers.synesthesia.it
DTSTART;TZID=CET:20241211T143000
DTEND;TZID=CET:20241211T151500
DESCRIPTION:This talk will delve into the integration of Large Language Mod
 els (LLMs) using CrewAI\, an open-source software platform designed for or
 chestrating multiple AI agents. We'll cover the fundamentals of LLMs\, the
 ir integration challenges\, and how CrewAI enhances their collaborative ca
 pabilities. Key themes include inter-LLM communication\, dynamic task deco
 mposition\, adaptive learning\, and ethical considerations. Attendees will
  learn how and when to use CrewAI\, as well as how it compares to other mo
 dules. Through real-world examples\, this session will provide insights in
 to leveraging CrewAI to improve LLM efficiency and tackle complex problems
  across various industries.
DTSTAMP:20241209T105217Z
LOCATION:Auditorium
SUMMARY:Orchestrating LLM AI Agents with CrewAI - Alessandro Romano
URL:https://papers.synesthesia.it/ai-heroes-2024/talk/FCKZ73/
END:VEVENT
END:VCALENDAR
