BEGIN:VCALENDAR
VERSION:2.0
PRODID:-//pretalx//papers.synesthesia.it//HFXCJK
BEGIN:VTIMEZONE
TZID:CET
BEGIN:STANDARD
DTSTART:20001029T040000
RRULE:FREQ=YEARLY;BYDAY=-1SU;BYMONTH=10
TZNAME:CET
TZOFFSETFROM:+0200
TZOFFSETTO:+0100
END:STANDARD
BEGIN:DAYLIGHT
DTSTART:20000326T030000
RRULE:FREQ=YEARLY;BYDAY=-1SU;BYMONTH=3
TZNAME:CEST
TZOFFSETFROM:+0100
TZOFFSETTO:+0200
END:DAYLIGHT
END:VTIMEZONE
BEGIN:VEVENT
UID:pretalx-ai-heroes-2024-HFXCJK@papers.synesthesia.it
DTSTART;TZID=CET:20241211T093000
DTEND;TZID=CET:20241211T102000
DESCRIPTION:For a safe AI\, not bound by third parties needs and goals\, it
  is essential to equip oneself with trusted infrastructures and build prop
 er agents.  \nIn this session\, we will show you how to create a vertical 
 AI\, based on open models and customized with the open source framework Ch
 eshire Cat AI or “Stregatto.”\nModels and agents are hosted by Seeweb 
 cloud for artificial intelligence and machine learning.
DTSTAMP:20241209T105217Z
LOCATION:Auditorium
SUMMARY:Your AI\, your rules - Piero Savastano\, Marco Cristofanilli
URL:https://papers.synesthesia.it/ai-heroes-2024/talk/HFXCJK/
END:VEVENT
END:VCALENDAR
