BEGIN:VCALENDAR
VERSION:2.0
PRODID:-//pretalx//papers.synesthesia.it//PRKV8Y
BEGIN:VTIMEZONE
TZID:CET
BEGIN:STANDARD
DTSTART:20001029T040000
RRULE:FREQ=YEARLY;BYDAY=-1SU;BYMONTH=10
TZNAME:CET
TZOFFSETFROM:+0200
TZOFFSETTO:+0100
END:STANDARD
BEGIN:DAYLIGHT
DTSTART:20000326T030000
RRULE:FREQ=YEARLY;BYDAY=-1SU;BYMONTH=3
TZNAME:CEST
TZOFFSETFROM:+0100
TZOFFSETTO:+0200
END:DAYLIGHT
END:VTIMEZONE
BEGIN:VEVENT
UID:pretalx-ai-heroes-2024-PRKV8Y@papers.synesthesia.it
DTSTART;TZID=CET:20241211T163000
DTEND;TZID=CET:20241211T171500
DESCRIPTION:Humanity back again\, thanks to AI. \nCurrent AI tools on the m
 arket\, try to copy the human brain functionality and its analytic intelli
 gence\, which is also where the majority of biases and hallucinations come
  from.\nAt SpaceVerse\, we believe in a new generation of AI tools\, where
  we copy the emotional brain capabilities\, creating the first Empathic al
 gorithm.
DTSTAMP:20241209T105218Z
LOCATION:Sala 150
SUMMARY:SpaceVerse: the algorithm of Emotions - Maria Bruna Moscatelli
URL:https://papers.synesthesia.it/ai-heroes-2024/talk/PRKV8Y/
END:VEVENT
END:VCALENDAR
