BEGIN:VCALENDAR
VERSION:2.0
PRODID:-//pretalx//papers.synesthesia.it//UUEEN7
BEGIN:VTIMEZONE
TZID:CET
BEGIN:STANDARD
DTSTART:20001029T040000
RRULE:FREQ=YEARLY;BYDAY=-1SU;BYMONTH=10
TZNAME:CET
TZOFFSETFROM:+0200
TZOFFSETTO:+0100
END:STANDARD
BEGIN:DAYLIGHT
DTSTART:20000326T030000
RRULE:FREQ=YEARLY;BYDAY=-1SU;BYMONTH=3
TZNAME:CEST
TZOFFSETFROM:+0100
TZOFFSETTO:+0200
END:DAYLIGHT
END:VTIMEZONE
BEGIN:VEVENT
UID:pretalx-ai-heroes-2024-UUEEN7@papers.synesthesia.it
DTSTART;TZID=CET:20241211T113000
DTEND;TZID=CET:20241211T121000
DESCRIPTION:In modern data-driven organizations\, the ability to quickly ac
 cess and analyze data is key to making informed decisions. However\, query
 ing databases often requires specialized SQL skills\, which limits access 
 to technical teams and increases the development cycle for data insights. 
 In this talk\, we will explore how Text-to-SQL technologies can dramatical
 ly enhance team productivity by shortening query development time. In this
  talk\, I will share practical ways to implement Text-to-SQL for your own 
 database\, starting with the basics and improving results using prompt eng
 ineering techniques and database structure representation. By democratizin
 g data access and improving cross-functional collaboration\, Text-to-SQL c
 an reduce bottlenecks\, speed up decision-making\, and enhance overall org
 anizational efficiency.
DTSTAMP:20241209T105218Z
LOCATION:Sala 150
SUMMARY:Bridging the SQL Skills Gap: How LLM-Based Text-to-SQL Boosts Team 
 Productivity - Sivan Biham
URL:https://papers.synesthesia.it/ai-heroes-2024/talk/UUEEN7/
END:VEVENT
END:VCALENDAR
